BEGIN:VCALENDAR
VERSION:2.0
PRODID:-//orienteering.lu//NONSGML kigkonsult.se iCalcreator 2.10.5//
METHOD:PUBLISH
X-WR-CALDESC:<p>This training will be an orienteering game aiming various o
 rienteering faculties\, for all ages and performace levels. We will meet a
 t the shelter in the Kiirchewiss parc in Mersch. You may start from 3 to 4
 pm.</p>\n\n<p>Take your compases and check this page for updates on Saturd
 ay evening.</p>
X-WR-TIMEZONE:Europe/Luxembourg
BEGIN:VEVENT
UID:20180701T083707CEST-1986XGGw8R@orienteering.lu
DTSTAMP:20180701T060707Z
CREATED:20180404T002957Z
DESCRIPTION:This training will be an orienteering game aiming various orien
 teering faculties\, for all ages and performace levels. We will meet at th
 e shelter in the Kiirchewiss parc in Mersch. You may start from 3 to 4pm.
 \nTake your compases and check this page for updates on Saturday evening.
DTSTART:20180513T150000
DTEND:20180513T160000
LAST-MODIFIED:20180510T125907Z
LOCATION:Rue Jean Majerus\, Mersch\, Canton Mersch\, 7555\, Luxembourg (49.
 746891\, 6.107132\, 16)
SUMMARY:LuxOC training in Mersch
URL:https://orienteering.lu/en/calendar/events/luxoc-training-in-mersch-201
 8-05-13/
END:VEVENT
END:VCALENDAR
