BEGIN:VCALENDAR
VERSION:2.0
PRODID:-//orienteering.lu//NONSGML kigkonsult.se iCalcreator 2.10.5//
METHOD:PUBLISH
X-WR-CALDESC:<p>Location: See on the map. Follow the signs from round-about
  D112F D112G D D112E to 'Gymnase Joel Bommersheim\, Rue Lothaire\, Maizièr
 es-lès-Metz'</p>\n\n<p>Start from 10 to 11:30.</p>\n\n<p>Circuits:</p>\n
 <ul><li>Green (2 km \; easy)</li>\n	<li>Yellow (4 km \; medium)</li>\n	<li
 >Orange (6 km \; medium to difficult)</li>\n	<li>'Ultimate' (without track
  on the map!)</li>\n</ul><p>4€ per person.</p>
X-WR-TIMEZONE:Europe/Luxembourg
BEGIN:VEVENT
UID:20180701T083628CEST-3379BbI4ik@orienteering.lu
DTSTAMP:20180701T060728Z
CREATED:20180512T212845Z
DESCRIPTION:Location: See on the map. Follow the signs from round-about D11
 2F D112G D D112E to 'Gymnase Joel Bommersheim\, Rue Lothaire\, Maizières-l
 ès-Metz'\n\nStart from 10 to 11:30.\n\nCircuits:\n\nGreen (2 km \; easy)
 	Yellow (4 km \; medium)\n	Orange (6 km \; medium to difficult)\n	'Ultimat
 e' (without track on the map!)\n4€ per person.
DTSTART:20180527T093000
DTEND:20180527T140000
LAST-MODIFIED:20180512T214259Z
LOCATION:Les Ecarts\, Maizières-lès-Metz\, Metz\, Moselle\, Grand Est\, Fra
 nce métropolitaine\, 57280\, France (49.220230\, 6.145520\, 15)
SUMMARY:Moselle orienteering race - Maizières-lès-Metz
URL:https://orienteering.lu/en/calendar/events/moselle-orienteering-race-ma
 izieres-les-metz/
END:VEVENT
END:VCALENDAR
