BEGIN:VCALENDAR
VERSION:2.0
PRODID:-//orienteering.lu//NONSGML kigkonsult.se iCalcreator 2.10.5//
METHOD:PUBLISH
X-WR-CALDESC:<p>Don't miss the last training of the season\, organized by G
 abi and Orsi in Trier.</p>\n\n<p>You can park the car at the end of Stuckr
 adweg\, and from there walk north-east on the path to find us.</p>\n\n<p>W
 e offer 3 courses - the shortest one\, 'Squirrel' for beginners\, 'Rabbit'
  for the more adventurous and 'Deer' for experienced runners. Be prepared 
 for steep hills!</p>\n\n<p>We hope to see many of you! Please let us know 
 by Friday if you're planning to come.</p>\n\n<p>Gabi&amp\;Orsi</p>
X-WR-TIMEZONE:Europe/Luxembourg
BEGIN:VEVENT
UID:20180701T083022CEST-0197UUR9rr@orienteering.lu
DTSTAMP:20180701T060722Z
CREATED:20180611T231733Z
DESCRIPTION:Don't miss the last training of the season\, organized by Gabi 
 and Orsi in Trier.\n\nYou can park the car at the end of Stuckradweg\, and
  from there walk north-east on the path to find us.\n\nWe offer 3 courses 
 - the shortest one\, 'Squirrel' for beginners\, 'Rabbit' for the more adve
 nturous and 'Deer' for experienced runners. Be prepared for steep hills!
 We hope to see many of you! Please let us know by Friday if you're plannin
 g to come.\n\nGabi&Orsi
DTSTART:20180630T100000
DTEND:20180630T120000
LAST-MODIFIED:20180623T180326Z
LOCATION:Stuckradweg\, Pallien\, West-Pallien\, Trier\, Rhineland-Palatinat
 e\, 54293\, Németország (49.770393\, 6.632926\, 16)
SUMMARY:LuxOC training - Weisshauswald\, Trier
URL:https://orienteering.lu/en/calendar/events/luxoc-training-weisshauswald
 -trier/
END:VEVENT
END:VCALENDAR
