BEGIN:VCALENDAR
VERSION:2.0
PRODID:-//orienteering.lu//NONSGML kigkonsult.se iCalcreator 2.10.5//
METHOD:PUBLISH
X-WR-CALDESC:<p>Let's meet every Wednesday in Bambësch and have a run toget
 her. We will run easy and if needed can do several groups\, depending on t
 he speed. We might do some running exercises together as well\, depending 
 on the mood.</p>
X-WR-TIMEZONE:Europe/Luxembourg
BEGIN:VEVENT
UID:20180701T083115CEST-6119HjurrR@orienteering.lu
DTSTAMP:20180701T060715Z
CREATED:20180613T090222Z
DESCRIPTION:Let's meet every Wednesday in Bambësch and have a run together.
  We will run easy and if needed can do several groups\, depending on the s
 peed. We might do some running exercises together as well\, depending on t
 he mood.
DTSTART:20180620T190000
LAST-MODIFIED:20180613T090318Z
LOCATION:Allée des Présidents\, Mühlenbach\, Muhlenbach\, Luxembourg\, Cant
 on Luxembourg\, 2241\, Luxembourg (49.632549\, 6.113348\, 15)
SUMMARY:Wednesday evening running
URL:https://orienteering.lu/en/calendar/events/wednesday-evening-running-20
 18-06-20/
END:VEVENT
END:VCALENDAR
