BEGIN:VCALENDAR
VERSION:2.0
PRODID:-//orienteering.lu//NONSGML kigkonsult.se iCalcreator 2.10.5//
METHOD:PUBLISH
X-WR-CALDESC:<p>If your children come\, drop a comment or sign them up - so
  as a running exercise can be set up.</p>\n\n<p>____________</p>\n\n<p>Let
 's meet every Wednesday in Bambësch and have a run together. We will run e
 asy and if needed can do several groups\, depending on the speed. We might
  do some running exercises together as well\, depending on the mood.</p>
 <p>But this time:</p>\n\n<p>Before the summer arrives and we scatter acros
 s Europe and pause the weekly runs\, we would like to gather on next Wedne
 sday evening for a run&amp\;apéro. To debrief the successful trainings\, m
 aps\, races of the spring season and above all to see each other.</p>\n\n<
 p>Same time\, same place: in Bambësch at the entry of the playground (the 
 one with the castle) at 7pm sharp for the 'run' part and at about 8pm for 
 the 'apéro'.</p>\n\n<p>Both\, run and apéro\, are free disciplines with no
  requirement on speed and style. Bring your shoes for one\, and something 
 small to share for the other.</p>\n\n<p>In case the weather does not allow
 \, we will gather indoors. Watch your mailbox on Tuesday evening.</p>\n\n<
 p>See you all on Wednesday!</p>
X-WR-TIMEZONE:Europe/Luxembourg
BEGIN:VEVENT
UID:20180701T083107CEST-7627JUZ4HO@orienteering.lu
DTSTAMP:20180701T060707Z
CREATED:20180620T230700Z
DESCRIPTION:If your children come\, drop a comment or sign them up - so as 
 a running exercise can be set up.\n\n____________\n\nLet's meet every Wedn
 esday in Bambësch and have a run together. We will run easy and if needed 
 can do several groups\, depending on the speed. We might do some running e
 xercises together as well\, depending on the mood.\n\nBut this time:\n\nBe
 fore the summer arrives and we scatter across Europe and pause the weekly 
 runs\, we would like to gather on next Wednesday evening for a run&apéro. 
 To debrief the successful trainings\, maps\, races of the spring season an
 d above all to see each other.\n\nSame time\, same place: in Bambësch at t
 he entry of the playground (the one with the castle) at 7pm sharp for the 
 'run' part and at about 8pm for the 'apéro'.\n\nBoth\, run and apéro\, are
  free disciplines with no requirement on speed and style. Bring your shoes
  for one\, and something small to share for the other.\n\nIn case the weat
 her does not allow\, we will gather indoors. Watch your mailbox on Tuesday
  evening.\n\nSee you all on Wednesday!
DTSTART:20180627T190000
LAST-MODIFIED:20180623T002054Z
LOCATION:Allée des Présidents\, Mühlenbach\, Muhlenbach\, Luxembourg\, Cant
 on Luxembourg\, 2241\, Luxembourg (49.632549\, 6.113348\, 15)
SUMMARY:Wednesday evening run&apéro
URL:https://orienteering.lu/en/calendar/events/wednesday-evening-running-20
 18-06-27/
END:VEVENT
END:VCALENDAR
