BEGIN:VCALENDAR
VERSION:2.0
PRODID:-//orienteering.lu//NONSGML kigkonsult.se iCalcreator 2.10.5//
METHOD:PUBLISH
X-WR-CALDESC:<p>Urban/park orienteering. Scale: 1:5000.</p>\n\n<p>Meeting p
 oint: Entrance of Saulcy island</p>\n\n<p>3 courses: 2km easy\, 4km medium
 \, 6km difficult.</p>\n\n<p>4€/person - 10€/family</p>
X-WR-TIMEZONE:Europe/Luxembourg
BEGIN:VEVENT
UID:20180701T083027CEST-7141eA5cvM@orienteering.lu
DTSTAMP:20180701T060727Z
CREATED:20180626T084437Z
DESCRIPTION:Urban/park orienteering. Scale: 1:5000.\n\nMeeting point: Entra
 nce of Saulcy island\n\n3 courses: 2km easy\, 4km medium\, 6km difficult.
 \n4€/person - 10€/family
DTSTART:20180630T140000
DTEND:20180630T170000
LAST-MODIFIED:20180626T084932Z
LOCATION:Patrotte - Metz-Nord\, Devant-les-Ponts\, Metz\, Moselle\, Grand E
 st\, Metropolitan France\, 57050\, France (49.120342\, 6.167922\, 15)
SUMMARY:Urban/park race in Metz-Saulcy
URL:https://orienteering.lu/en/calendar/events/urban-park-race-in-metz-saul
 cy/
END:VEVENT
END:VCALENDAR
