BEGIN:VCALENDAR
VERSION:2.0
PRODID:-//orienteering.lu//NONSGML kigkonsult.se iCalcreator 2.10.5//
METHOD:PUBLISH
X-WR-CALDESC:<p><strong>Last 'announced' session before the summer break. T
 he first fall session will take place after the school starts\, on Wednesd
 ay September 19th.</strong></p>\n\n<p>Let's meet every Wednesday in Bambës
 ch and have a run together. We will run easy and if needed can do several 
 groups\, depending on the speed. We might do some running exercises togeth
 er as well\, depending on the mood.</p>
X-WR-TIMEZONE:Europe/Luxembourg
BEGIN:VEVENT
UID:20180701T083052CEST-52352UuK3v@orienteering.lu
DTSTAMP:20180701T060752Z
CREATED:20180628T110802Z
DESCRIPTION:Last 'announced' session before the summer break. The first fal
 l session will take place after the school starts\, on Wednesday September
  19th.\n\nLet's meet every Wednesday in Bambësch and have a run together. 
 We will run easy and if needed can do several groups\, depending on the sp
 eed. We might do some running exercises together as well\, depending on th
 e mood.
DTSTART:20180711T190000
LAST-MODIFIED:20180628T111326Z
LOCATION:Allée des Présidents\, Mühlenbach\, Muhlenbach\, Luxembourg\, Cant
 on Luxembourg\, 2241\, Luxembourg (49.632549\, 6.113348\, 15)
SUMMARY:Wednesday evening running
URL:https://orienteering.lu/en/calendar/events/wednesday-evening-running-20
 18-07-11/
END:VEVENT
END:VCALENDAR
