BEGIN:VCALENDAR
VERSION:2.0
PRODID:-//orienteering.lu//NONSGML kigkonsult.se iCalcreator 2.10.5//
METHOD:PUBLISH
X-WR-CALDESC:<p><strong>First 'announced' session after the summer break.</
 strong></p>\n\n<p>Let's meet every Wednesday in Bambësch and have a run to
 gether. We will run easy and if needed can do several groups\, depending o
 n the speed. We might do some running exercises together as well\, dependi
 ng on the mood.</p>
X-WR-TIMEZONE:Europe/Luxembourg
BEGIN:VEVENT
UID:20180701T083100CEST-2301pPb1Nv@orienteering.lu
DTSTAMP:20180701T060700Z
CREATED:20180628T111201Z
DESCRIPTION:First 'announced' session after the summer break.\n\nLet's meet
  every Wednesday in Bambësch and have a run together. We will run easy and
  if needed can do several groups\, depending on the speed. We might do som
 e running exercises together as well\, depending on the mood.
DTSTART:20180919T190000
LAST-MODIFIED:20180628T111317Z
LOCATION:Allée des Présidents\, Mühlenbach\, Muhlenbach\, Luxembourg\, Cant
 on Luxembourg\, 2241\, Luxembourg (49.632549\, 6.113348\, 15)
SUMMARY:Wednesday evening running
URL:https://orienteering.lu/en/calendar/events/wednesday-evening-running-20
 18-09-19/
END:VEVENT
END:VCALENDAR
